BEGIN:VCALENDAR
VERSION:2.0
PRODID:-//ChamberMaster//Event Calendar 2.0//EN
METHOD:PUBLISH
X-PUBLISHED-TTL:P3D
REFRESH-INTERVAL:P3D
CALSCALE:GREGORIAN
BEGIN:VEVENT
DTSTART:20220112T220000Z
DTEND:20220113T000000Z
X-MICROSOFT-CDO-ALLDAYEVENT:FALSE
SUMMARY:BRAG Ann Arbor After Hours
DESCRIPTION:Join us for After Hours at HOMES Brewery BREWPUB at 2321 Jackson Ave\, Ann Arbor\n\n(Original Location).\n\n(HOMES Campus will be closed 1.12.2022)\n\nFREE appetizers hosted by BRAG Ann Arbor.  Cash bar.
X-ALT-DESC;FMTTYPE=text/html:<div>Join us for After Hours at HOMES Brewery BREWPUB at 2321 Jackson Ave\, Ann Arbor</div>\n\n<div>(Original Location).</div>\n\n<p>(HOMES Campus will be closed 1.12.2022)</p>\n\n<div>FREE appetizers hosted by BRAG Ann Arbor. &nbsp\;Cash bar.</div>\n\n<div>&nbsp\;</div>\n
LOCATION:HOMES Brewery BREWPUB (Original location) 2321 Jackson Ave\, Ann Arbor Ann Arbor\, MI 48103
UID:e.9592.6153
SEQUENCE:3
DTSTAMP:20260424T072424Z
URL:https://members.bragannarbor.net/events/details/brag-ann-arbor-after-hours-6153
END:VEVENT

END:VCALENDAR
